BEGIN:VCALENDAR
VERSION:2.0
PRODID:-//Career Counseling in Maryland | CareerCatchers - ECPv6.15.17.1//NONSGML v1.0//EN
CALSCALE:GREGORIAN
METHOD:PUBLISH
X-ORIGINAL-URL:https://careercatchers.org
X-WR-CALDESC:Events for Career Counseling in Maryland | CareerCatchers
REFRESH-INTERVAL;VALUE=DURATION:PT1H
X-Robots-Tag:noindex
X-PUBLISHED-TTL:PT1H
BEGIN:VTIMEZONE
TZID:America/New_York
BEGIN:DAYLIGHT
TZOFFSETFROM:-0500
TZOFFSETTO:-0400
TZNAME:EDT
DTSTART:20250309T070000
END:DAYLIGHT
BEGIN:STANDARD
TZOFFSETFROM:-0400
TZOFFSETTO:-0500
TZNAME:EST
DTSTART:20251102T060000
END:STANDARD
BEGIN:DAYLIGHT
TZOFFSETFROM:-0500
TZOFFSETTO:-0400
TZNAME:EDT
DTSTART:20260308T070000
END:DAYLIGHT
BEGIN:STANDARD
TZOFFSETFROM:-0400
TZOFFSETTO:-0500
TZNAME:EST
DTSTART:20261101T060000
END:STANDARD
BEGIN:DAYLIGHT
TZOFFSETFROM:-0500
TZOFFSETTO:-0400
TZNAME:EDT
DTSTART:20270314T070000
END:DAYLIGHT
BEGIN:STANDARD
TZOFFSETFROM:-0400
TZOFFSETTO:-0500
TZNAME:EST
DTSTART:20271107T060000
END:STANDARD
END:VTIMEZONE
BEGIN:VEVENT
DTSTART;TZID=America/New_York:20260303T150000
DTEND;TZID=America/New_York:20260303T160000
DTSTAMP:20260423T154349
CREATED:20260227T132825Z
LAST-MODIFIED:20260303T225436Z
UID:11273-1772550000-1772553600@careercatchers.org
SUMMARY:Empowerment Hour: The Alchemist - Paulo Coelho
DESCRIPTION:This book reminds us that your dreams still matter\, even when life feels uncertain or off track.\nIt teaches that every setback is part of a bigger journey\, not a sign that you should give up.\nNo matter where you are today\, you are still capable of creating a meaningful and fulfilling future. \n  \nTo register for this event\, click here and select March 3 from the dropdown! \nMarch3Alchemist
URL:https://careercatchers.org/events/empowerment-hour-the-alchemist/
CATEGORIES:Empowerment Hour
END:VEVENT
BEGIN:VEVENT
DTSTART;TZID=America/New_York:20260304T110000
DTEND;TZID=America/New_York:20260304T130000
DTSTAMP:20260423T154349
CREATED:20260227T153830Z
LAST-MODIFIED:20260303T225536Z
UID:11289-1772622000-1772629200@careercatchers.org
SUMMARY:Job Club - Preparing for a Job Fair
DESCRIPTION:Participants learn how to confidently navigate job fairs with purpose and preparation. The session focuses on how to research employers in advance\, prepare a strong elevator pitch\, dress professionally\, and follow up effectively after meeting recruiters. Attendees practice introducing themselves and learn strategies to stand out in competitive environments. \n  \nTo register for this event\, click here and select March 4  from the dropdown! \nMarch4Preparing for a Job Fair
URL:https://careercatchers.org/events/job-club-preparing-for-a-job-fair/
CATEGORIES:Job Club
END:VEVENT
BEGIN:VEVENT
DTSTART;TZID=America/New_York:20260310T150000
DTEND;TZID=America/New_York:20260310T160000
DTSTAMP:20260423T154349
CREATED:20260227T133012Z
LAST-MODIFIED:20260303T232321Z
UID:11275-1773154800-1773158400@careercatchers.org
SUMMARY:Empowerment Hour: The Let Them Theory - Mel Robbins
DESCRIPTION:This book teaches us that we don’t have to carry the weight of other people’s opinions\, reactions\, or behavior.\nWhen you let go of what you can’t control\, you free up energy to focus on your healing\, growth\, and goals.\nSometimes peace begins when you stop fighting and start choosing yourself. \n  \nTo register for this event\, click here and select March 10 from the dropdown! \nMarch10LetThemTheory
URL:https://careercatchers.org/events/empowerment-hour-the-let-them-theory-mel-robbins/
CATEGORIES:Empowerment Hour
END:VEVENT
BEGIN:VEVENT
DTSTART;TZID=America/New_York:20260311T110000
DTEND;TZID=America/New_York:20260311T130000
DTSTAMP:20260423T154349
CREATED:20260227T154037Z
LAST-MODIFIED:20260325T132752Z
UID:11294-1773226800-1773234000@careercatchers.org
SUMMARY:Job Club - Capital Bank: Your Income & Expenses
DESCRIPTION:Participants gain practical skills in budgeting\, tracking income\, and managing expenses. The session focuses on identifying needs versus wants\, building awareness of spending habits\, and creating realistic financial plans. Attendees gain tools to better manage limited resources and work toward greater financial stability. \n  \nTo register for this event\, click here and select March 11 from the dropdown! \n*Rescheduled for March 11th* \nMarch18YourIncome&Expenses
URL:https://careercatchers.org/events/job-club-your-income-expenses/
CATEGORIES:Job Club
END:VEVENT
BEGIN:VEVENT
DTSTART;TZID=America/New_York:20260317T150000
DTEND;TZID=America/New_York:20260317T160000
DTSTAMP:20260423T154349
CREATED:20260227T135405Z
LAST-MODIFIED:20260303T232654Z
UID:11277-1773759600-1773763200@careercatchers.org
SUMMARY:Empowerment Hour: Psycho-Cybernetics - Dr. Maxwell Maltze
DESCRIPTION:This book shows how the way you see yourself shapes the outcomes in your life.\nEven if life has knocked you down\, you can rebuild your confidence by changing the messages you tell yourself.\nYour past does not define you; your mindset moving forward does. \n  \nTo register for this event\, click here and select March 17 from the dropdown! \n 
URL:https://careercatchers.org/events/empowerment-hour-psycho-cybernetics-dr-maxwell-maltze/
CATEGORIES:Empowerment Hour
END:VEVENT
BEGIN:VEVENT
DTSTART;TZID=America/New_York:20260318T110000
DTEND;TZID=America/New_York:20260318T130000
DTSTAMP:20260423T154349
CREATED:20260227T153941Z
LAST-MODIFIED:20260312T152659Z
UID:11292-1773831600-1773838800@careercatchers.org
SUMMARY:Job Club - Capital Bank: Your Money Values & Influences
DESCRIPTION:This session encourages participants to reflect on their personal relationship with money and how past experiences\, culture\, and environment influence financial decisions. Through guided discussion\, attendees explore how beliefs about money impact saving\, spending\, and financial planning. The workshop empower participants to become more intentional and confident in their financial choices. \n  \nTo register for this event\, click here and select March 18 from the dropdown! \n*Rescheduled for March 18th* \nMarch11Your Money Values & Influences
URL:https://careercatchers.org/events/job-club-your-money-values-influences/
CATEGORIES:Job Club
END:VEVENT
BEGIN:VEVENT
DTSTART;TZID=America/New_York:20260324T150000
DTEND;TZID=America/New_York:20260324T160000
DTSTAMP:20260423T154349
CREATED:20260227T140354Z
LAST-MODIFIED:20260303T233142Z
UID:11279-1774364400-1774368000@careercatchers.org
SUMMARY:Empowerment Hour: Be Your Future Self Now - Dr. Benjamin Hardy
DESCRIPTION:This book reminds us that who you become starts with the choices you make today.\nYou don’t have to wait for everything to be perfect to begin improving your life.\nSmall steps taken now can lead to big changes over time. \n  \nTo register for this event\, click here and select March 24 from the dropdown! \nMarch24BeYourFutureSelfNow
URL:https://careercatchers.org/events/empowerment-hour-be-your-future-self-now-dr-benjamin-hardy/
CATEGORIES:Empowerment Hour
END:VEVENT
BEGIN:VEVENT
DTSTART;TZID=America/New_York:20260325T110000
DTEND;TZID=America/New_York:20260325T130000
DTSTAMP:20260423T154349
CREATED:20260227T154142Z
LAST-MODIFIED:20260303T233615Z
UID:11297-1774436400-1774443600@careercatchers.org
SUMMARY:Job Club - Carroll Technology & Innovation Council: Marketing Your Business with AI
DESCRIPTION:This interactive session introduces participants to using AI tools to create marketing content tailored to different customer segments while maintaining an authentic brand voice. Attendees learn how to develop reusable branding prompts that reflect their organization’s tone and values\, and how to use AI tools in Canva and image generators to design engaging marketing materials. \nParticipants practice creating AI-assisted content that resonates with real customers and explore both the opportunities and limitations of AI in brand building and customer communication. The session emphasizes responsible\, strategic use of AI as a powerful tool\, not a replacement for creativity and human connection. \nTo register for this event\, click here and select March 25 from the dropdown! \nMarch25MarketingwithAI
URL:https://careercatchers.org/events/job-club-marketing-your-business-with-ai-molly-jake/
CATEGORIES:Job Club
END:VEVENT
BEGIN:VEVENT
DTSTART;TZID=America/New_York:20260331T150000
DTEND;TZID=America/New_York:20260331T160000
DTSTAMP:20260423T154349
CREATED:20260227T140448Z
LAST-MODIFIED:20260303T234215Z
UID:11281-1774969200-1774972800@careercatchers.org
SUMMARY:Empowerment Hour: After the Rain - Alexandra Elle
DESCRIPTION:This book speaks to anyone who has experienced loss\, pain\, or disappointment.\nIt reminds us that healing is not about rushing; it’s about giving yourself grace through every stage.\nEven after the hardest storms\, renewal and hope are still possible \n  \nTo register for this event\, click here and select March 31 from the dropdown! \nMarch31AfterTheRain\n 
URL:https://careercatchers.org/events/empowerment-hour-after-the-rain-alexandra-elle/
CATEGORIES:Empowerment Hour
END:VEVENT
END:VCALENDAR