BEGIN:VCALENDAR
VERSION:2.0
PRODID:-//Career Counseling in Maryland | CareerCatchers - ECPv6.15.17.1//NONSGML v1.0//EN
CALSCALE:GREGORIAN
METHOD:PUBLISH
X-WR-CALNAME:Career Counseling in Maryland | CareerCatchers
X-ORIGINAL-URL:https://careercatchers.org
X-WR-CALDESC:Events for Career Counseling in Maryland | CareerCatchers
REFRESH-INTERVAL;VALUE=DURATION:PT1H
X-Robots-Tag:noindex
X-PUBLISHED-TTL:PT1H
BEGIN:VTIMEZONE
TZID:America/New_York
BEGIN:DAYLIGHT
TZOFFSETFROM:-0500
TZOFFSETTO:-0400
TZNAME:EDT
DTSTART:20220313T070000
END:DAYLIGHT
BEGIN:STANDARD
TZOFFSETFROM:-0400
TZOFFSETTO:-0500
TZNAME:EST
DTSTART:20221106T060000
END:STANDARD
BEGIN:DAYLIGHT
TZOFFSETFROM:-0500
TZOFFSETTO:-0400
TZNAME:EDT
DTSTART:20230312T070000
END:DAYLIGHT
BEGIN:STANDARD
TZOFFSETFROM:-0400
TZOFFSETTO:-0500
TZNAME:EST
DTSTART:20231105T060000
END:STANDARD
BEGIN:DAYLIGHT
TZOFFSETFROM:-0500
TZOFFSETTO:-0400
TZNAME:EDT
DTSTART:20240310T070000
END:DAYLIGHT
BEGIN:STANDARD
TZOFFSETFROM:-0400
TZOFFSETTO:-0500
TZNAME:EST
DTSTART:20241103T060000
END:STANDARD
END:VTIMEZONE
BEGIN:VEVENT
DTSTART;TZID=America/New_York:20231108T110000
DTEND;TZID=America/New_York:20231108T123000
DTSTAMP:20260420T031226
CREATED:20231025T204118Z
LAST-MODIFIED:20240124T162752Z
UID:8162-1699441200-1699446600@careercatchers.org
SUMMARY:Job Club: Tips for Turning a Seasonal Position into a Permanent Job!
DESCRIPTION:This time of year\, lots of people get hired into seasonal positions! Having that extra money during the holiday season is certainly nice\, but do you know how to make sure you keep seeing that extra money after the holiday season? Join us as our retail expert shares tips and tricks to go from seasonal temp to permanent hire after the holiday season. \nTo view future events\, check out our calendar!
URL:https://careercatchers.org/events/job-club-tips-for-turning-a-seasonal-position-into-a-permanent-job/
CATEGORIES:Job Club
END:VEVENT
END:VCALENDAR