BEGIN:VCALENDAR
VERSION:2.0
PRODID:-//Career Counseling in Maryland | CareerCatchers - ECPv6.15.17.1//NONSGML v1.0//EN
CALSCALE:GREGORIAN
METHOD:PUBLISH
X-ORIGINAL-URL:https://careercatchers.org
X-WR-CALDESC:Events for Career Counseling in Maryland | CareerCatchers
REFRESH-INTERVAL;VALUE=DURATION:PT1H
X-Robots-Tag:noindex
X-PUBLISHED-TTL:PT1H
BEGIN:VTIMEZONE
TZID:America/New_York
BEGIN:DAYLIGHT
TZOFFSETFROM:-0500
TZOFFSETTO:-0400
TZNAME:EDT
DTSTART:20220313T070000
END:DAYLIGHT
BEGIN:STANDARD
TZOFFSETFROM:-0400
TZOFFSETTO:-0500
TZNAME:EST
DTSTART:20221106T060000
END:STANDARD
BEGIN:DAYLIGHT
TZOFFSETFROM:-0500
TZOFFSETTO:-0400
TZNAME:EDT
DTSTART:20230312T070000
END:DAYLIGHT
BEGIN:STANDARD
TZOFFSETFROM:-0400
TZOFFSETTO:-0500
TZNAME:EST
DTSTART:20231105T060000
END:STANDARD
BEGIN:DAYLIGHT
TZOFFSETFROM:-0500
TZOFFSETTO:-0400
TZNAME:EDT
DTSTART:20240310T070000
END:DAYLIGHT
BEGIN:STANDARD
TZOFFSETFROM:-0400
TZOFFSETTO:-0500
TZNAME:EST
DTSTART:20241103T060000
END:STANDARD
END:VTIMEZONE
BEGIN:VEVENT
DTSTART;TZID=America/New_York:20231101T110000
DTEND;TZID=America/New_York:20231101T123000
DTSTAMP:20260419T182439
CREATED:20231025T203743Z
LAST-MODIFIED:20231108T134623Z
UID:8160-1698836400-1698841800@careercatchers.org
SUMMARY:Job Club: Understanding Different Kinds of Job Scams
DESCRIPTION:Have you ever seen a position posted that seemed too good to be true? It might have been. Join us as we discuss various kinds of job posting scams and on the job scams! \nFor future events\, check out our calendar!
URL:https://careercatchers.org/events/job-club-understanding-different-kinds-of-job-scams/
CATEGORIES:Job Club
ATTACH;FMTTYPE=image/png:https://careercatchers.org/wp-content/uploads/2023/10/4.png
END:VEVENT
END:VCALENDAR