BEGIN:VCALENDAR
VERSION:2.0
PRODID:-//Career Counseling in Maryland | CareerCatchers - ECPv6.15.17.1//NONSGML v1.0//EN
CALSCALE:GREGORIAN
METHOD:PUBLISH
X-WR-CALNAME:Career Counseling in Maryland | CareerCatchers
X-ORIGINAL-URL:https://careercatchers.org
X-WR-CALDESC:Events for Career Counseling in Maryland | CareerCatchers
REFRESH-INTERVAL;VALUE=DURATION:PT1H
X-Robots-Tag:noindex
X-PUBLISHED-TTL:PT1H
BEGIN:VTIMEZONE
TZID:America/New_York
BEGIN:DAYLIGHT
TZOFFSETFROM:-0500
TZOFFSETTO:-0400
TZNAME:EDT
DTSTART:20220313T070000
END:DAYLIGHT
BEGIN:STANDARD
TZOFFSETFROM:-0400
TZOFFSETTO:-0500
TZNAME:EST
DTSTART:20221106T060000
END:STANDARD
BEGIN:DAYLIGHT
TZOFFSETFROM:-0500
TZOFFSETTO:-0400
TZNAME:EDT
DTSTART:20230312T070000
END:DAYLIGHT
BEGIN:STANDARD
TZOFFSETFROM:-0400
TZOFFSETTO:-0500
TZNAME:EST
DTSTART:20231105T060000
END:STANDARD
BEGIN:DAYLIGHT
TZOFFSETFROM:-0500
TZOFFSETTO:-0400
TZNAME:EDT
DTSTART:20240310T070000
END:DAYLIGHT
BEGIN:STANDARD
TZOFFSETFROM:-0400
TZOFFSETTO:-0500
TZNAME:EST
DTSTART:20241103T060000
END:STANDARD
END:VTIMEZONE
BEGIN:VEVENT
DTSTART;TZID=America/New_York:20230823T110000
DTEND;TZID=America/New_York:20230823T120000
DTSTAMP:20260420T173057
CREATED:20230727T145215Z
LAST-MODIFIED:20230830T164823Z
UID:7600-1692788400-1692792000@careercatchers.org
SUMMARY:Job Club: Remote Work
DESCRIPTION:Is remote work right for you? Remote and hybrid work options have become more available since the pandemic. How do these positions work? What are the benefits and drawbacks? Join us as we discuss remote work- the ups\, downs\, and in-betweens- so you can decide if this is a path you may want to take. \nFor future events\, check out our calendar.
URL:https://careercatchers.org/events/job-club-remote-work/
CATEGORIES:Job Club
ATTACH;FMTTYPE=image/png:https://careercatchers.org/wp-content/uploads/2023/07/8.png
END:VEVENT
END:VCALENDAR