BEGIN:VCALENDAR
VERSION:2.0
PRODID:-//Career Counseling in Maryland | CareerCatchers - ECPv6.15.17.1//NONSGML v1.0//EN
CALSCALE:GREGORIAN
METHOD:PUBLISH
X-WR-CALNAME:Career Counseling in Maryland | CareerCatchers
X-ORIGINAL-URL:https://careercatchers.org
X-WR-CALDESC:Events for Career Counseling in Maryland | CareerCatchers
REFRESH-INTERVAL;VALUE=DURATION:PT1H
X-Robots-Tag:noindex
X-PUBLISHED-TTL:PT1H
BEGIN:VTIMEZONE
TZID:America/New_York
BEGIN:DAYLIGHT
TZOFFSETFROM:-0500
TZOFFSETTO:-0400
TZNAME:EDT
DTSTART:20220313T070000
END:DAYLIGHT
BEGIN:STANDARD
TZOFFSETFROM:-0400
TZOFFSETTO:-0500
TZNAME:EST
DTSTART:20221106T060000
END:STANDARD
BEGIN:DAYLIGHT
TZOFFSETFROM:-0500
TZOFFSETTO:-0400
TZNAME:EDT
DTSTART:20230312T070000
END:DAYLIGHT
BEGIN:STANDARD
TZOFFSETFROM:-0400
TZOFFSETTO:-0500
TZNAME:EST
DTSTART:20231105T060000
END:STANDARD
BEGIN:DAYLIGHT
TZOFFSETFROM:-0500
TZOFFSETTO:-0400
TZNAME:EDT
DTSTART:20240310T070000
END:DAYLIGHT
BEGIN:STANDARD
TZOFFSETFROM:-0400
TZOFFSETTO:-0500
TZNAME:EST
DTSTART:20241103T060000
END:STANDARD
END:VTIMEZONE
BEGIN:VEVENT
DTSTART;TZID=America/New_York:20230614T110000
DTEND;TZID=America/New_York:20230614T120000
DTSTAMP:20260420T185228
CREATED:20230517T155021Z
LAST-MODIFIED:20230712T164746Z
UID:7238-1686740400-1686744000@careercatchers.org
SUMMARY:Job Club: The Hidden Job Market
DESCRIPTION:Are you feeling frustrated in your job search? Do you feel you cannot find the positions you want? Join us for our exciting workshop on the hidden job market\, and learn more about different ways to hear about the positions you’re interested in! \nFor future events\, subscribe to our calendar!
URL:https://careercatchers.org/events/the-hidden-job-market/
CATEGORIES:Job Club
ATTACH;FMTTYPE=image/png:https://careercatchers.org/wp-content/uploads/2023/05/Events-Photos.png
END:VEVENT
END:VCALENDAR