BEGIN:VCALENDAR
VERSION:2.0
PRODID:-//Career Counseling in Maryland | CareerCatchers - ECPv6.15.17.1//NONSGML v1.0//EN
CALSCALE:GREGORIAN
METHOD:PUBLISH
X-WR-CALNAME:Career Counseling in Maryland | CareerCatchers
X-ORIGINAL-URL:https://careercatchers.org
X-WR-CALDESC:Events for Career Counseling in Maryland | CareerCatchers
REFRESH-INTERVAL;VALUE=DURATION:PT1H
X-Robots-Tag:noindex
X-PUBLISHED-TTL:PT1H
BEGIN:VTIMEZONE
TZID:America/New_York
BEGIN:DAYLIGHT
TZOFFSETFROM:-0500
TZOFFSETTO:-0400
TZNAME:EDT
DTSTART:20220313T070000
END:DAYLIGHT
BEGIN:STANDARD
TZOFFSETFROM:-0400
TZOFFSETTO:-0500
TZNAME:EST
DTSTART:20221106T060000
END:STANDARD
BEGIN:DAYLIGHT
TZOFFSETFROM:-0500
TZOFFSETTO:-0400
TZNAME:EDT
DTSTART:20230312T070000
END:DAYLIGHT
BEGIN:STANDARD
TZOFFSETFROM:-0400
TZOFFSETTO:-0500
TZNAME:EST
DTSTART:20231105T060000
END:STANDARD
BEGIN:DAYLIGHT
TZOFFSETFROM:-0500
TZOFFSETTO:-0400
TZNAME:EDT
DTSTART:20240310T070000
END:DAYLIGHT
BEGIN:STANDARD
TZOFFSETFROM:-0400
TZOFFSETTO:-0500
TZNAME:EST
DTSTART:20241103T060000
END:STANDARD
END:VTIMEZONE
BEGIN:VEVENT
DTSTART;TZID=America/New_York:20230607T110000
DTEND;TZID=America/New_York:20230607T120000
DTSTAMP:20260420T202745
CREATED:20230517T154524Z
LAST-MODIFIED:20230712T164644Z
UID:7232-1686135600-1686139200@careercatchers.org
SUMMARY:Job Club: Holy Cross Health Information Session
DESCRIPTION:From hospitals and primary care sites to specialty care and wellness programs\, Holy Cross Health is accessible throughout the region to meet individuals on their path to good health. Join guest speaker Davanna as she tells us about her organization\, benefits\, and ways to apply. \nFor future events\, subscribe to our calendar!
URL:https://careercatchers.org/events/job-club-holy-cross-health-information-session/
CATEGORIES:Job Club
ATTACH;FMTTYPE=image/png:https://careercatchers.org/wp-content/uploads/2023/05/holy-cross-health.png
END:VEVENT
END:VCALENDAR