BEGIN:VCALENDAR
VERSION:2.0
PRODID:-//Career Counseling in Maryland | CareerCatchers - ECPv6.15.17.1//NONSGML v1.0//EN
CALSCALE:GREGORIAN
METHOD:PUBLISH
X-ORIGINAL-URL:https://careercatchers.org
X-WR-CALDESC:Events for Career Counseling in Maryland | CareerCatchers
REFRESH-INTERVAL;VALUE=DURATION:PT1H
X-Robots-Tag:noindex
X-PUBLISHED-TTL:PT1H
BEGIN:VTIMEZONE
TZID:America/New_York
BEGIN:DAYLIGHT
TZOFFSETFROM:-0500
TZOFFSETTO:-0400
TZNAME:EDT
DTSTART:20250309T070000
END:DAYLIGHT
BEGIN:STANDARD
TZOFFSETFROM:-0400
TZOFFSETTO:-0500
TZNAME:EST
DTSTART:20251102T060000
END:STANDARD
BEGIN:DAYLIGHT
TZOFFSETFROM:-0500
TZOFFSETTO:-0400
TZNAME:EDT
DTSTART:20260308T070000
END:DAYLIGHT
BEGIN:STANDARD
TZOFFSETFROM:-0400
TZOFFSETTO:-0500
TZNAME:EST
DTSTART:20261101T060000
END:STANDARD
BEGIN:DAYLIGHT
TZOFFSETFROM:-0500
TZOFFSETTO:-0400
TZNAME:EDT
DTSTART:20270314T070000
END:DAYLIGHT
BEGIN:STANDARD
TZOFFSETFROM:-0400
TZOFFSETTO:-0500
TZNAME:EST
DTSTART:20271107T060000
END:STANDARD
END:VTIMEZONE
BEGIN:VEVENT
DTSTART;TZID=America/New_York:20260304T110000
DTEND;TZID=America/New_York:20260304T130000
DTSTAMP:20260420T200812
CREATED:20260227T153830Z
LAST-MODIFIED:20260303T225536Z
UID:11289-1772622000-1772629200@careercatchers.org
SUMMARY:Job Club - Preparing for a Job Fair
DESCRIPTION:Participants learn how to confidently navigate job fairs with purpose and preparation. The session focuses on how to research employers in advance\, prepare a strong elevator pitch\, dress professionally\, and follow up effectively after meeting recruiters. Attendees practice introducing themselves and learn strategies to stand out in competitive environments. \n  \nTo register for this event\, click here and select March 4  from the dropdown! \nMarch4Preparing for a Job Fair
URL:https://careercatchers.org/events/job-club-preparing-for-a-job-fair/
CATEGORIES:Job Club
END:VEVENT
BEGIN:VEVENT
DTSTART;TZID=America/New_York:20260311T110000
DTEND;TZID=America/New_York:20260311T130000
DTSTAMP:20260420T200812
CREATED:20260227T154037Z
LAST-MODIFIED:20260325T132752Z
UID:11294-1773226800-1773234000@careercatchers.org
SUMMARY:Job Club - Capital Bank: Your Income & Expenses
DESCRIPTION:Participants gain practical skills in budgeting\, tracking income\, and managing expenses. The session focuses on identifying needs versus wants\, building awareness of spending habits\, and creating realistic financial plans. Attendees gain tools to better manage limited resources and work toward greater financial stability. \n  \nTo register for this event\, click here and select March 11 from the dropdown! \n*Rescheduled for March 11th* \nMarch18YourIncome&Expenses
URL:https://careercatchers.org/events/job-club-your-income-expenses/
CATEGORIES:Job Club
END:VEVENT
BEGIN:VEVENT
DTSTART;TZID=America/New_York:20260318T110000
DTEND;TZID=America/New_York:20260318T130000
DTSTAMP:20260420T200812
CREATED:20260227T153941Z
LAST-MODIFIED:20260312T152659Z
UID:11292-1773831600-1773838800@careercatchers.org
SUMMARY:Job Club - Capital Bank: Your Money Values & Influences
DESCRIPTION:This session encourages participants to reflect on their personal relationship with money and how past experiences\, culture\, and environment influence financial decisions. Through guided discussion\, attendees explore how beliefs about money impact saving\, spending\, and financial planning. The workshop empower participants to become more intentional and confident in their financial choices. \n  \nTo register for this event\, click here and select March 18 from the dropdown! \n*Rescheduled for March 18th* \nMarch11Your Money Values & Influences
URL:https://careercatchers.org/events/job-club-your-money-values-influences/
CATEGORIES:Job Club
END:VEVENT
BEGIN:VEVENT
DTSTART;TZID=America/New_York:20260325T110000
DTEND;TZID=America/New_York:20260325T130000
DTSTAMP:20260420T200812
CREATED:20260227T154142Z
LAST-MODIFIED:20260303T233615Z
UID:11297-1774436400-1774443600@careercatchers.org
SUMMARY:Job Club - Carroll Technology & Innovation Council: Marketing Your Business with AI
DESCRIPTION:This interactive session introduces participants to using AI tools to create marketing content tailored to different customer segments while maintaining an authentic brand voice. Attendees learn how to develop reusable branding prompts that reflect their organization’s tone and values\, and how to use AI tools in Canva and image generators to design engaging marketing materials. \nParticipants practice creating AI-assisted content that resonates with real customers and explore both the opportunities and limitations of AI in brand building and customer communication. The session emphasizes responsible\, strategic use of AI as a powerful tool\, not a replacement for creativity and human connection. \nTo register for this event\, click here and select March 25 from the dropdown! \nMarch25MarketingwithAI
URL:https://careercatchers.org/events/job-club-marketing-your-business-with-ai-molly-jake/
CATEGORIES:Job Club
END:VEVENT
END:VCALENDAR