BEGIN:VCALENDAR
VERSION:2.0
PRODID:-//Career Counseling in Maryland | CareerCatchers - ECPv6.15.17.1//NONSGML v1.0//EN
CALSCALE:GREGORIAN
METHOD:PUBLISH
X-ORIGINAL-URL:https://careercatchers.org
X-WR-CALDESC:Events for Career Counseling in Maryland | CareerCatchers
REFRESH-INTERVAL;VALUE=DURATION:PT1H
X-Robots-Tag:noindex
X-PUBLISHED-TTL:PT1H
BEGIN:VTIMEZONE
TZID:America/New_York
BEGIN:DAYLIGHT
TZOFFSETFROM:-0500
TZOFFSETTO:-0400
TZNAME:EDT
DTSTART:20250309T070000
END:DAYLIGHT
BEGIN:STANDARD
TZOFFSETFROM:-0400
TZOFFSETTO:-0500
TZNAME:EST
DTSTART:20251102T060000
END:STANDARD
BEGIN:DAYLIGHT
TZOFFSETFROM:-0500
TZOFFSETTO:-0400
TZNAME:EDT
DTSTART:20260308T070000
END:DAYLIGHT
BEGIN:STANDARD
TZOFFSETFROM:-0400
TZOFFSETTO:-0500
TZNAME:EST
DTSTART:20261101T060000
END:STANDARD
BEGIN:DAYLIGHT
TZOFFSETFROM:-0500
TZOFFSETTO:-0400
TZNAME:EDT
DTSTART:20270314T070000
END:DAYLIGHT
BEGIN:STANDARD
TZOFFSETFROM:-0400
TZOFFSETTO:-0500
TZNAME:EST
DTSTART:20271107T060000
END:STANDARD
END:VTIMEZONE
BEGIN:VEVENT
DTSTART;TZID=America/New_York:20260114T110000
DTEND;TZID=America/New_York:20260114T120000
DTSTAMP:20260421T005924
CREATED:20260105T132809Z
LAST-MODIFIED:20260114T145110Z
UID:11039-1768388400-1768392000@careercatchers.org
SUMMARY:Job Club: Job Search Tools You Should Be Using in 2026
DESCRIPTION:Stay ahead in today’s competitive job market! Discover the latest platforms\, apps\, and digital tools that successful job seekers are using right now. Learn how to leverage modern search engines\, networking sites\, AI-powered resume builders\, and application trackers to land interviews faster. Perfect for anyone ready to modernize their job search strategy and connect with employers more effectively. \nTo register for this event\, click here and select January 14th from the dropdown!
URL:https://careercatchers.org/events/guest-speaker-capital-bank/
CATEGORIES:Job Club
END:VEVENT
BEGIN:VEVENT
DTSTART;TZID=America/New_York:20260121T110000
DTEND;TZID=America/New_York:20260121T120000
DTSTAMP:20260421T005924
CREATED:20260105T133522Z
LAST-MODIFIED:20260204T203729Z
UID:11042-1768993200-1768996800@careercatchers.org
SUMMARY:Job Club - Guest Speaker: Holy Cross
DESCRIPTION:To register for this event\, click here and select January 21st from the dropdown! \n 
URL:https://careercatchers.org/events/job-club-guest-speaker-from-holy-cross/
CATEGORIES:Job Club
END:VEVENT
BEGIN:VEVENT
DTSTART;TZID=America/New_York:20260128T110000
DTEND;TZID=America/New_York:20260128T120000
DTSTAMP:20260421T005924
CREATED:20260105T133741Z
LAST-MODIFIED:20260204T203814Z
UID:11044-1769598000-1769601600@careercatchers.org
SUMMARY:Job Club - Guest Speaker: Molly Sherman\, Carroll Technology & Innovation Council
DESCRIPTION:Curious about artificial intelligence and what it means for your future? Join us for an engaging and easy-to-understand session that breaks down what AI is\, how it’s already shaping everyday life\, and why it presents exciting opportunities ahead. Guest speaker Molly from the Carroll Technology & Innovation Council will explore real-world examples and help demystify AI\, leaving you informed\, inspired\, and confident about embracing emerging technology. \n  \nTo register for this event\, click here and select January 28th from the dropdown!
URL:https://careercatchers.org/events/job-club-what-is-ai-and-why-to-be-excited-about-it/
CATEGORIES:Job Club
END:VEVENT
END:VCALENDAR