BEGIN:VCALENDAR
VERSION:2.0
PRODID:-//Career Counseling in Maryland | CareerCatchers - ECPv6.15.17.1//NONSGML v1.0//EN
CALSCALE:GREGORIAN
METHOD:PUBLISH
X-ORIGINAL-URL:https://careercatchers.org
X-WR-CALDESC:Events for Career Counseling in Maryland | CareerCatchers
REFRESH-INTERVAL;VALUE=DURATION:PT1H
X-Robots-Tag:noindex
X-PUBLISHED-TTL:PT1H
BEGIN:VTIMEZONE
TZID:America/New_York
BEGIN:DAYLIGHT
TZOFFSETFROM:-0500
TZOFFSETTO:-0400
TZNAME:EDT
DTSTART:20220313T070000
END:DAYLIGHT
BEGIN:STANDARD
TZOFFSETFROM:-0400
TZOFFSETTO:-0500
TZNAME:EST
DTSTART:20221106T060000
END:STANDARD
BEGIN:DAYLIGHT
TZOFFSETFROM:-0500
TZOFFSETTO:-0400
TZNAME:EDT
DTSTART:20230312T070000
END:DAYLIGHT
BEGIN:STANDARD
TZOFFSETFROM:-0400
TZOFFSETTO:-0500
TZNAME:EST
DTSTART:20231105T060000
END:STANDARD
BEGIN:DAYLIGHT
TZOFFSETFROM:-0500
TZOFFSETTO:-0400
TZNAME:EDT
DTSTART:20240310T070000
END:DAYLIGHT
BEGIN:STANDARD
TZOFFSETFROM:-0400
TZOFFSETTO:-0500
TZNAME:EST
DTSTART:20241103T060000
END:STANDARD
END:VTIMEZONE
BEGIN:VEVENT
DTSTART;TZID=America/New_York:20231004T110000
DTEND;TZID=America/New_York:20231004T123000
DTSTAMP:20260420T012558
CREATED:20230920T193413Z
LAST-MODIFIED:20231011T212323Z
UID:8019-1696417200-1696422600@careercatchers.org
SUMMARY:Job Club: World Financial Planning Day with Truist Bank
DESCRIPTION:Did you know every October 4th is World Financial Planning Day? This year join us as we celebrate with a presentation on basic financial planning from our partner at Truist Bank! \nFor future events\, check out our calendar!
URL:https://careercatchers.org/events/job-club-world-financial-planning-day-with-truist-bank/
CATEGORIES:Job Club
ATTACH;FMTTYPE=image/png:https://careercatchers.org/wp-content/uploads/2023/09/5-1.png
END:VEVENT
BEGIN:VEVENT
DTSTART;TZID=America/New_York:20231011T110000
DTEND;TZID=America/New_York:20231011T123000
DTSTAMP:20260420T012558
CREATED:20230920T193626Z
LAST-MODIFIED:20231011T212331Z
UID:8022-1697022000-1697027400@careercatchers.org
SUMMARY:Job Club: How to Evaluate a Job Offer
DESCRIPTION:After you finish interviewing\, you may have multiple job offers! How do you make the decision to choose one? What factors should you look at to ensure your future success and satisfaction with your career? Join us as we discuss these questions and more! \nFor future events\, check out our calendar!
URL:https://careercatchers.org/events/job-club-how-to-evaluate-a-job-offer/
CATEGORIES:Job Club
ATTACH;FMTTYPE=image/png:https://careercatchers.org/wp-content/uploads/2023/09/6.png
END:VEVENT
BEGIN:VEVENT
DTSTART;TZID=America/New_York:20231018T110000
DTEND;TZID=America/New_York:20231018T133000
DTSTAMP:20260420T012558
CREATED:20230920T193806Z
LAST-MODIFIED:20231025T201733Z
UID:8025-1697626800-1697635800@careercatchers.org
SUMMARY:Job Club: CEO of Your Own Career with BuildEd
DESCRIPTION:Join BuildEd and CareerCatchers for “CEO of Your Own Career.” The world has changed\, but the rules for how to prosper have not. The problem is that these rules are just not taught\, until now. In the 2.5 hour workshop\, you will learn how the world really works\, what drives success\, and how to build the career YOU want regardless of where you are now. You will emerge with an understanding and tools you can put into action immediately. 94 out of 100 people would recommend this to a friend. Come see why and unleash your future! \nFor future events\, check out our calendar.
URL:https://careercatchers.org/events/job-club-ceo-of-your-own-career-with-builded/
CATEGORIES:Job Club
ATTACH;FMTTYPE=image/png:https://careercatchers.org/wp-content/uploads/2023/09/7.png
END:VEVENT
END:VCALENDAR