BEGIN:VCALENDAR
VERSION:2.0
PRODID:-//Career Counseling in Maryland | CareerCatchers - ECPv6.15.17.1//NONSGML v1.0//EN
CALSCALE:GREGORIAN
METHOD:PUBLISH
X-WR-CALNAME:Career Counseling in Maryland | CareerCatchers
X-ORIGINAL-URL:https://careercatchers.org
X-WR-CALDESC:Events for Career Counseling in Maryland | CareerCatchers
REFRESH-INTERVAL;VALUE=DURATION:PT1H
X-Robots-Tag:noindex
X-PUBLISHED-TTL:PT1H
BEGIN:VTIMEZONE
TZID:America/New_York
BEGIN:DAYLIGHT
TZOFFSETFROM:-0500
TZOFFSETTO:-0400
TZNAME:EDT
DTSTART:20220313T070000
END:DAYLIGHT
BEGIN:STANDARD
TZOFFSETFROM:-0400
TZOFFSETTO:-0500
TZNAME:EST
DTSTART:20221106T060000
END:STANDARD
BEGIN:DAYLIGHT
TZOFFSETFROM:-0500
TZOFFSETTO:-0400
TZNAME:EDT
DTSTART:20230312T070000
END:DAYLIGHT
BEGIN:STANDARD
TZOFFSETFROM:-0400
TZOFFSETTO:-0500
TZNAME:EST
DTSTART:20231105T060000
END:STANDARD
BEGIN:DAYLIGHT
TZOFFSETFROM:-0500
TZOFFSETTO:-0400
TZNAME:EDT
DTSTART:20240310T070000
END:DAYLIGHT
BEGIN:STANDARD
TZOFFSETFROM:-0400
TZOFFSETTO:-0500
TZNAME:EST
DTSTART:20241103T060000
END:STANDARD
END:VTIMEZONE
BEGIN:VEVENT
DTSTART;TZID=America/New_York:20230802T110000
DTEND;TZID=America/New_York:20230802T120000
DTSTAMP:20260420T063209
CREATED:20230727T144718Z
LAST-MODIFIED:20230803T130139Z
UID:7592-1690974000-1690977600@careercatchers.org
SUMMARY:Job Club: Transferable Skills
DESCRIPTION:When changing careers\, it’s important to understand the value of all of the experience you carry on your resume. Some of the skills you picked up in one field will transfer into another! \nFor future events\, check out our calendar!
URL:https://careercatchers.org/events/job-club-transferable-skills/
CATEGORIES:Job Club
ATTACH;FMTTYPE=image/png:https://careercatchers.org/wp-content/uploads/2023/07/6.png
END:VEVENT
BEGIN:VEVENT
DTSTART;TZID=America/New_York:20230809T110000
DTEND;TZID=America/New_York:20230809T120000
DTSTAMP:20260420T063209
CREATED:20230727T144911Z
LAST-MODIFIED:20230817T122304Z
UID:7595-1691578800-1691582400@careercatchers.org
SUMMARY:Job Club: USPS Information Session
DESCRIPTION:Join us Wednesday\, August 9th at 11AM as we host a discussion with USPS. Learn more about: \n\nOpen positions\nBenefits\nHow to apply\nCareer pathways\nAnd more\n\nFor future events\, check out our calendar!
URL:https://careercatchers.org/events/job-club-usps-information-session/
CATEGORIES:Job Club
ATTACH;FMTTYPE=image/jpeg:https://careercatchers.org/wp-content/uploads/2023/02/usps.jpg
END:VEVENT
BEGIN:VEVENT
DTSTART;TZID=America/New_York:20230816T110000
DTEND;TZID=America/New_York:20230816T120000
DTSTAMP:20260420T063209
CREATED:20230727T145045Z
LAST-MODIFIED:20230817T122347Z
UID:7597-1692183600-1692187200@careercatchers.org
SUMMARY:Job Club: Job Search Strategies
DESCRIPTION:Are you feeling frustrated about searching for a job? Do you feel overwhelmed about the positions and sites to look through? Do you have a plan for how to communicate and follow up on every application? Join us as we review job search strategies to help you with all of this!  \nFor future events\, check out our calendar!
URL:https://careercatchers.org/events/job-club-job-search-strategies/
CATEGORIES:Job Club
ATTACH;FMTTYPE=image/png:https://careercatchers.org/wp-content/uploads/2023/07/7.png
END:VEVENT
BEGIN:VEVENT
DTSTART;TZID=America/New_York:20230823T110000
DTEND;TZID=America/New_York:20230823T120000
DTSTAMP:20260420T063209
CREATED:20230727T145215Z
LAST-MODIFIED:20230830T164823Z
UID:7600-1692788400-1692792000@careercatchers.org
SUMMARY:Job Club: Remote Work
DESCRIPTION:Is remote work right for you? Remote and hybrid work options have become more available since the pandemic. How do these positions work? What are the benefits and drawbacks? Join us as we discuss remote work- the ups\, downs\, and in-betweens- so you can decide if this is a path you may want to take. \nFor future events\, check out our calendar.
URL:https://careercatchers.org/events/job-club-remote-work/
CATEGORIES:Job Club
ATTACH;FMTTYPE=image/png:https://careercatchers.org/wp-content/uploads/2023/07/8.png
END:VEVENT
BEGIN:VEVENT
DTSTART;TZID=America/New_York:20230830T110000
DTEND;TZID=America/New_York:20230830T120000
DTSTAMP:20260420T063209
CREATED:20230727T145403Z
LAST-MODIFIED:20230830T163838Z
UID:7603-1693393200-1693396800@careercatchers.org
SUMMARY:Job Club: Interviewing Skills
DESCRIPTION:Prepare for your next interview and learn how to market your skills to your future employer. Get tips on panel interviewing\, what not to say during an interview\, and what to do after the interview to help you land the job. \nFor future events\, check out our calendar!
URL:https://careercatchers.org/events/job-club-interviewing-skills/
CATEGORIES:Job Club
ATTACH;FMTTYPE=image/png:https://careercatchers.org/wp-content/uploads/2023/07/Untitled-design.png
END:VEVENT
END:VCALENDAR