BEGIN:VCALENDAR
VERSION:2.0
PRODID:-//Career Counseling in Maryland | CareerCatchers - ECPv6.15.17.1//NONSGML v1.0//EN
CALSCALE:GREGORIAN
METHOD:PUBLISH
X-ORIGINAL-URL:https://careercatchers.org
X-WR-CALDESC:Events for Career Counseling in Maryland | CareerCatchers
REFRESH-INTERVAL;VALUE=DURATION:PT1H
X-Robots-Tag:noindex
X-PUBLISHED-TTL:PT1H
BEGIN:VTIMEZONE
TZID:America/New_York
BEGIN:DAYLIGHT
TZOFFSETFROM:-0500
TZOFFSETTO:-0400
TZNAME:EDT
DTSTART:20220313T070000
END:DAYLIGHT
BEGIN:STANDARD
TZOFFSETFROM:-0400
TZOFFSETTO:-0500
TZNAME:EST
DTSTART:20221106T060000
END:STANDARD
BEGIN:DAYLIGHT
TZOFFSETFROM:-0500
TZOFFSETTO:-0400
TZNAME:EDT
DTSTART:20230312T070000
END:DAYLIGHT
BEGIN:STANDARD
TZOFFSETFROM:-0400
TZOFFSETTO:-0500
TZNAME:EST
DTSTART:20231105T060000
END:STANDARD
BEGIN:DAYLIGHT
TZOFFSETFROM:-0500
TZOFFSETTO:-0400
TZNAME:EDT
DTSTART:20240310T070000
END:DAYLIGHT
BEGIN:STANDARD
TZOFFSETFROM:-0400
TZOFFSETTO:-0500
TZNAME:EST
DTSTART:20241103T060000
END:STANDARD
END:VTIMEZONE
BEGIN:VEVENT
DTSTART;TZID=America/New_York:20230705T110000
DTEND;TZID=America/New_York:20230705T120000
DTSTAMP:20260420T142927
CREATED:20230630T220932Z
LAST-MODIFIED:20230712T164837Z
UID:7406-1688554800-1688558400@careercatchers.org
SUMMARY:Job Club: Soft Skills
DESCRIPTION:You may have more valuable skills than you know! Soft skills like teamwork\, attention to detail\, and communication are not something you can be trained on in a short period\, but are invaluable to the success of any team you connect with. Join senior career coach Maria Dent-Turner as she discusses soft skills you may have\, how they are valuable to employers\, and how to include them when marketing yourself. \nFor future events\, subscribe to our calendar!
URL:https://careercatchers.org/events/job-club-soft-skills/
CATEGORIES:Job Club
ATTACH;FMTTYPE=image/png:https://careercatchers.org/wp-content/uploads/2023/06/2-1.png
END:VEVENT
BEGIN:VEVENT
DTSTART;TZID=America/New_York:20230712T110000
DTEND;TZID=America/New_York:20230712T120000
DTSTAMP:20260420T142927
CREATED:20230630T222336Z
LAST-MODIFIED:20230712T164845Z
UID:7418-1689159600-1689163200@careercatchers.org
SUMMARY:Job Club: Resume Writing 101
DESCRIPTION:Resume writing can be confusing\, which is why expert resume writer Maria Dent-Turner\, our senior career coach with over 20 years of experience on the subject is hosting the first of her two part series on demystifying resume writing. Learn the basics of resume writing and formatting from an expert\, understand how resumes are read\, what skills to include and why\, and find the best ways to convey your skills and certificates to employers! \nFor future events\, subscribe to our calendar!
URL:https://careercatchers.org/events/job-club-resume-writing-101/
CATEGORIES:Job Club
ATTACH;FMTTYPE=image/png:https://careercatchers.org/wp-content/uploads/2023/06/3.png
END:VEVENT
BEGIN:VEVENT
DTSTART;TZID=America/New_York:20230726T110000
DTEND;TZID=America/New_York:20230726T120000
DTSTAMP:20260420T142927
CREATED:20230630T223200Z
LAST-MODIFIED:20230727T145623Z
UID:7424-1690369200-1690372800@careercatchers.org
SUMMARY:Job Club: Resume Writing 102
DESCRIPTION:Resume writing can be confusing\, which is why expert resume writer Maria Dent-Turner\, our senior career coach with over 20 years of experience on the subject is hosting the second of her two part series on demystifying resume writing. Learn the basics of resume writing and formatting from an expert\, understand how resumes are read\, what skills to include and why\, and find the best ways to convey your skills and certificates to employers! \nFor future events\, check out our calendar!
URL:https://careercatchers.org/events/tbd-resume-writing-102/
CATEGORIES:Job Club
ATTACH;FMTTYPE=image/png:https://careercatchers.org/wp-content/uploads/2023/06/3.png
END:VEVENT
END:VCALENDAR