BEGIN:VCALENDAR
VERSION:2.0
PRODID:-//Career Counseling in Maryland | CareerCatchers - ECPv6.15.17.1//NONSGML v1.0//EN
CALSCALE:GREGORIAN
METHOD:PUBLISH
X-ORIGINAL-URL:https://careercatchers.org
X-WR-CALDESC:Events for Career Counseling in Maryland | CareerCatchers
REFRESH-INTERVAL;VALUE=DURATION:PT1H
X-Robots-Tag:noindex
X-PUBLISHED-TTL:PT1H
BEGIN:VTIMEZONE
TZID:America/New_York
BEGIN:DAYLIGHT
TZOFFSETFROM:-0500
TZOFFSETTO:-0400
TZNAME:EDT
DTSTART:20220313T070000
END:DAYLIGHT
BEGIN:STANDARD
TZOFFSETFROM:-0400
TZOFFSETTO:-0500
TZNAME:EST
DTSTART:20221106T060000
END:STANDARD
BEGIN:DAYLIGHT
TZOFFSETFROM:-0500
TZOFFSETTO:-0400
TZNAME:EDT
DTSTART:20230312T070000
END:DAYLIGHT
BEGIN:STANDARD
TZOFFSETFROM:-0400
TZOFFSETTO:-0500
TZNAME:EST
DTSTART:20231105T060000
END:STANDARD
BEGIN:DAYLIGHT
TZOFFSETFROM:-0500
TZOFFSETTO:-0400
TZNAME:EDT
DTSTART:20240310T070000
END:DAYLIGHT
BEGIN:STANDARD
TZOFFSETFROM:-0400
TZOFFSETTO:-0500
TZNAME:EST
DTSTART:20241103T060000
END:STANDARD
END:VTIMEZONE
BEGIN:VEVENT
DTSTART;TZID=America/New_York:20230517T110000
DTEND;TZID=America/New_York:20230517T123000
DTSTAMP:20260420T214018
CREATED:20230511T211649Z
LAST-MODIFIED:20230712T164451Z
UID:7148-1684321200-1684326600@careercatchers.org
SUMMARY:Job Club: Paid Childcare Apprenticeship
DESCRIPTION:Echelon Academy is partnering with the Maryland Department of Labor and various childcare centers in the state to provide a part-time apprenticeship to those looking to enter the field! Join us as Autumn Cortes\, Echelon Academy’s Community Outreach Officer\, discusses a new opportunity available to those aspiring to begin their career in Early Childhood Development.
URL:https://careercatchers.org/events/job-club-paid-childcare-apprenticeship/
CATEGORIES:Job Club
ATTACH;FMTTYPE=image/png:https://careercatchers.org/wp-content/uploads/2023/05/Tutor-Photos.png
END:VEVENT
BEGIN:VEVENT
DTSTART;TZID=America/New_York:20230524T110000
DTEND;TZID=America/New_York:20230524T120000
DTSTAMP:20260420T214018
CREATED:20230517T164358Z
LAST-MODIFIED:20230712T164536Z
UID:7276-1684926000-1684929600@careercatchers.org
SUMMARY:Job Club: The Conversation that Gets the Job (Interviewing Skills) Workshop
DESCRIPTION:Prepare for your next interview and learn how to market your skills to your future employer. Get tips on panel interviewing\, what not to say during an interview\, and what to do after the interview to help you land the job. \n 
URL:https://careercatchers.org/events/job-club-the-conversation-that-gets-the-job-interviewing-skills-workshop/
CATEGORIES:Job Club
ATTACH;FMTTYPE=image/png:https://careercatchers.org/wp-content/uploads/2023/05/9.png
END:VEVENT
BEGIN:VEVENT
DTSTART;TZID=America/New_York:20230531T110000
DTEND;TZID=America/New_York:20230531T120000
DTSTAMP:20260420T214018
CREATED:20230517T154404Z
LAST-MODIFIED:20230608T152127Z
UID:7229-1685530800-1685534400@careercatchers.org
SUMMARY:Job Club: Axle Informatics Information Session
DESCRIPTION:Axle Informatics is a bioscience and information technology company that offers advancements in translational research\, health informatics\, and data science applications to research centers and healthcare organizations around the globe. Join us as guest speaker Erik tells us about his company\, the benefits\, and ways to apply. \nFor future events\, subscribe to our calendar!
URL:https://careercatchers.org/events/job-club-axle-informatics-information-session/
CATEGORIES:Job Club
ATTACH;FMTTYPE=image/png:https://careercatchers.org/wp-content/uploads/2023/05/axle-informatics.png
END:VEVENT
END:VCALENDAR