BEGIN:VCALENDAR
VERSION:2.0
PRODID:-//Career Counseling in Maryland | CareerCatchers - ECPv6.15.17.1//NONSGML v1.0//EN
CALSCALE:GREGORIAN
METHOD:PUBLISH
X-ORIGINAL-URL:https://careercatchers.org
X-WR-CALDESC:Events for Career Counseling in Maryland | CareerCatchers
REFRESH-INTERVAL;VALUE=DURATION:PT1H
X-Robots-Tag:noindex
X-PUBLISHED-TTL:PT1H
BEGIN:VTIMEZONE
TZID:America/New_York
BEGIN:DAYLIGHT
TZOFFSETFROM:-0500
TZOFFSETTO:-0400
TZNAME:EDT
DTSTART:20240310T070000
END:DAYLIGHT
BEGIN:STANDARD
TZOFFSETFROM:-0400
TZOFFSETTO:-0500
TZNAME:EST
DTSTART:20241103T060000
END:STANDARD
BEGIN:DAYLIGHT
TZOFFSETFROM:-0500
TZOFFSETTO:-0400
TZNAME:EDT
DTSTART:20250309T070000
END:DAYLIGHT
BEGIN:STANDARD
TZOFFSETFROM:-0400
TZOFFSETTO:-0500
TZNAME:EST
DTSTART:20251102T060000
END:STANDARD
BEGIN:DAYLIGHT
TZOFFSETFROM:-0500
TZOFFSETTO:-0400
TZNAME:EDT
DTSTART:20260308T070000
END:DAYLIGHT
BEGIN:STANDARD
TZOFFSETFROM:-0400
TZOFFSETTO:-0500
TZNAME:EST
DTSTART:20261101T060000
END:STANDARD
END:VTIMEZONE
BEGIN:VEVENT
DTSTART;TZID=America/New_York:20250909T150000
DTEND;TZID=America/New_York:20250909T163000
DTSTAMP:20260422T172228
CREATED:20250905T201246Z
LAST-MODIFIED:20250905T201246Z
UID:10505-1757430000-1757435400@careercatchers.org
SUMMARY:Empowerment Hour: How to Make Friends and Influence Others
DESCRIPTION:Join us to discover practical ways to build genuine connections and create lasting friendships. Learn simple strategies to communicate with confidence\, earn trust\, and positively influence others. Walk away with tools you can use every day to strengthen relationships and inspire those around you! \n  \nTo register for this event\, click here and select September 9th from the dropdown!
URL:https://careercatchers.org/events/empowerment-hour-how-to-make-friends-and-influence-others/
CATEGORIES:Empowerment Hour
END:VEVENT
END:VCALENDAR