BEGIN:VCALENDAR
VERSION:2.0
PRODID:-//Career Counseling in Maryland | CareerCatchers - ECPv6.15.17.1//NONSGML v1.0//EN
CALSCALE:GREGORIAN
METHOD:PUBLISH
X-ORIGINAL-URL:https://careercatchers.org
X-WR-CALDESC:Events for Career Counseling in Maryland | CareerCatchers
REFRESH-INTERVAL;VALUE=DURATION:PT1H
X-Robots-Tag:noindex
X-PUBLISHED-TTL:PT1H
BEGIN:VTIMEZONE
TZID:America/New_York
BEGIN:DAYLIGHT
TZOFFSETFROM:-0500
TZOFFSETTO:-0400
TZNAME:EDT
DTSTART:20230312T070000
END:DAYLIGHT
BEGIN:STANDARD
TZOFFSETFROM:-0400
TZOFFSETTO:-0500
TZNAME:EST
DTSTART:20231105T060000
END:STANDARD
BEGIN:DAYLIGHT
TZOFFSETFROM:-0500
TZOFFSETTO:-0400
TZNAME:EDT
DTSTART:20240310T070000
END:DAYLIGHT
BEGIN:STANDARD
TZOFFSETFROM:-0400
TZOFFSETTO:-0500
TZNAME:EST
DTSTART:20241103T060000
END:STANDARD
BEGIN:DAYLIGHT
TZOFFSETFROM:-0500
TZOFFSETTO:-0400
TZNAME:EDT
DTSTART:20250309T070000
END:DAYLIGHT
BEGIN:STANDARD
TZOFFSETFROM:-0400
TZOFFSETTO:-0500
TZNAME:EST
DTSTART:20251102T060000
END:STANDARD
END:VTIMEZONE
BEGIN:VEVENT
DTSTART;TZID=America/New_York:20240618T150000
DTEND;TZID=America/New_York:20240618T163000
DTSTAMP:20260421T144342
CREATED:20240524T134751Z
LAST-MODIFIED:20240717T152551Z
UID:9072-1718722800-1718728200@careercatchers.org
SUMMARY:Empowerment Hour : Self-Confidence
DESCRIPTION:Self-confidence is essential to anyone’s success and happiness! Join our Empowerment Hour and learn how to develop a positive and empowering relationship with yourself\, find new ways to prioritize your self-image and boost confidence\, and discover the power of self-confidence. \nFor future events\, please check out our calendar! \n 
URL:https://careercatchers.org/events/empowerment-hour-tbd/
CATEGORIES:Empowerment Hour
ATTACH;FMTTYPE=image/png:https://careercatchers.org/wp-content/uploads/2023/07/4.png
END:VEVENT
END:VCALENDAR