BEGIN:VCALENDAR
VERSION:2.0
PRODID:-//Career Counseling in Maryland | CareerCatchers - ECPv6.15.17.1//NONSGML v1.0//EN
CALSCALE:GREGORIAN
METHOD:PUBLISH
X-ORIGINAL-URL:https://careercatchers.org
X-WR-CALDESC:Events for Career Counseling in Maryland | CareerCatchers
REFRESH-INTERVAL;VALUE=DURATION:PT1H
X-Robots-Tag:noindex
X-PUBLISHED-TTL:PT1H
BEGIN:VTIMEZONE
TZID:America/New_York
BEGIN:DAYLIGHT
TZOFFSETFROM:-0500
TZOFFSETTO:-0400
TZNAME:EDT
DTSTART:20230312T070000
END:DAYLIGHT
BEGIN:STANDARD
TZOFFSETFROM:-0400
TZOFFSETTO:-0500
TZNAME:EST
DTSTART:20231105T060000
END:STANDARD
BEGIN:DAYLIGHT
TZOFFSETFROM:-0500
TZOFFSETTO:-0400
TZNAME:EDT
DTSTART:20240310T070000
END:DAYLIGHT
BEGIN:STANDARD
TZOFFSETFROM:-0400
TZOFFSETTO:-0500
TZNAME:EST
DTSTART:20241103T060000
END:STANDARD
BEGIN:DAYLIGHT
TZOFFSETFROM:-0500
TZOFFSETTO:-0400
TZNAME:EDT
DTSTART:20250309T070000
END:DAYLIGHT
BEGIN:STANDARD
TZOFFSETFROM:-0400
TZOFFSETTO:-0500
TZNAME:EST
DTSTART:20251102T060000
END:STANDARD
END:VTIMEZONE
BEGIN:VEVENT
DTSTART;TZID=America/New_York:20240611T150000
DTEND;TZID=America/New_York:20240611T163000
DTSTAMP:20260422T031830
CREATED:20240524T140719Z
LAST-MODIFIED:20240717T152540Z
UID:9077-1718118000-1718123400@careercatchers.org
SUMMARY:Empowerment Hour: Seven Types of Rest
DESCRIPTION:Rest is incredibly important for our health and productivity\, but did you know there are several types of rests? Most of us practice physical rest\, but what about social rest\, mental rest\, or creative rest? Join us as we discuss all the types of rest and how beneficial they can be for all of us. \nFor future events\, please check out our calendar!
URL:https://careercatchers.org/events/empowerment-hour-seven-types-of-rest/
CATEGORIES:Empowerment Hour
ATTACH;FMTTYPE=image/png:https://careercatchers.org/wp-content/uploads/2024/05/rest-and-adventure.png
END:VEVENT
END:VCALENDAR