BEGIN:VCALENDAR
VERSION:2.0
PRODID:-//Career Counseling in Maryland | CareerCatchers - ECPv6.15.17.1//NONSGML v1.0//EN
CALSCALE:GREGORIAN
METHOD:PUBLISH
X-WR-CALNAME:Career Counseling in Maryland | CareerCatchers
X-ORIGINAL-URL:https://careercatchers.org
X-WR-CALDESC:Events for Career Counseling in Maryland | CareerCatchers
REFRESH-INTERVAL;VALUE=DURATION:PT1H
X-Robots-Tag:noindex
X-PUBLISHED-TTL:PT1H
BEGIN:VTIMEZONE
TZID:America/New_York
BEGIN:DAYLIGHT
TZOFFSETFROM:-0500
TZOFFSETTO:-0400
TZNAME:EDT
DTSTART:20230312T070000
END:DAYLIGHT
BEGIN:STANDARD
TZOFFSETFROM:-0400
TZOFFSETTO:-0500
TZNAME:EST
DTSTART:20231105T060000
END:STANDARD
BEGIN:DAYLIGHT
TZOFFSETFROM:-0500
TZOFFSETTO:-0400
TZNAME:EDT
DTSTART:20240310T070000
END:DAYLIGHT
BEGIN:STANDARD
TZOFFSETFROM:-0400
TZOFFSETTO:-0500
TZNAME:EST
DTSTART:20241103T060000
END:STANDARD
BEGIN:DAYLIGHT
TZOFFSETFROM:-0500
TZOFFSETTO:-0400
TZNAME:EDT
DTSTART:20250309T070000
END:DAYLIGHT
BEGIN:STANDARD
TZOFFSETFROM:-0400
TZOFFSETTO:-0500
TZNAME:EST
DTSTART:20251102T060000
END:STANDARD
END:VTIMEZONE
BEGIN:VEVENT
DTSTART;TZID=America/New_York:20240402T150000
DTEND;TZID=America/New_York:20240402T163000
DTSTAMP:20260421T093319
CREATED:20240326T134247Z
LAST-MODIFIED:20240403T144435Z
UID:8738-1712070000-1712075400@careercatchers.org
SUMMARY:Empowerment Hour: Nature and Mental Health Benefits
DESCRIPTION:Join us to learn more about the many benefits of nature and its effects on our mental health\, such as improving memory\, inspiring creativity\, and reducing stress! \nFor future events\, check out our calendar!
URL:https://careercatchers.org/events/empowerment-hour-nature-and-mental-health-benefits-2/
CATEGORIES:Empowerment Hour
ATTACH;FMTTYPE=image/png:https://careercatchers.org/wp-content/uploads/2023/05/Screenshot-2023-05-30-172747.png
END:VEVENT
END:VCALENDAR