BEGIN:VCALENDAR
VERSION:2.0
PRODID:-//Career Counseling in Maryland | CareerCatchers - ECPv6.15.17.1//NONSGML v1.0//EN
CALSCALE:GREGORIAN
METHOD:PUBLISH
X-ORIGINAL-URL:https://careercatchers.org
X-WR-CALDESC:Events for Career Counseling in Maryland | CareerCatchers
REFRESH-INTERVAL;VALUE=DURATION:PT1H
X-Robots-Tag:noindex
X-PUBLISHED-TTL:PT1H
BEGIN:VTIMEZONE
TZID:America/New_York
BEGIN:DAYLIGHT
TZOFFSETFROM:-0500
TZOFFSETTO:-0400
TZNAME:EDT
DTSTART:20230312T070000
END:DAYLIGHT
BEGIN:STANDARD
TZOFFSETFROM:-0400
TZOFFSETTO:-0500
TZNAME:EST
DTSTART:20231105T060000
END:STANDARD
BEGIN:DAYLIGHT
TZOFFSETFROM:-0500
TZOFFSETTO:-0400
TZNAME:EDT
DTSTART:20240310T070000
END:DAYLIGHT
BEGIN:STANDARD
TZOFFSETFROM:-0400
TZOFFSETTO:-0500
TZNAME:EST
DTSTART:20241103T060000
END:STANDARD
BEGIN:DAYLIGHT
TZOFFSETFROM:-0500
TZOFFSETTO:-0400
TZNAME:EDT
DTSTART:20250309T070000
END:DAYLIGHT
BEGIN:STANDARD
TZOFFSETFROM:-0400
TZOFFSETTO:-0500
TZNAME:EST
DTSTART:20251102T060000
END:STANDARD
END:VTIMEZONE
BEGIN:VEVENT
DTSTART;TZID=America/New_York:20240319T150000
DTEND;TZID=America/New_York:20240319T163000
DTSTAMP:20260423T034014
CREATED:20240208T170640Z
LAST-MODIFIED:20240326T235127Z
UID:8552-1710860400-1710865800@careercatchers.org
SUMMARY:Empowerment Hour: Mindfulness
DESCRIPTION:Did you know mindfulness comes with several benefits? Reducing anxiety\, bettering your sleep\, and improving your general overall health are some of the many benefits! Join us as we review ways to practice mindfulness and its many benefits! \nTo view our future events\, check out our calendar.
URL:https://careercatchers.org/events/empowerment-hour-mindfulness/
CATEGORIES:Empowerment Hour
ATTACH;FMTTYPE=image/png:https://careercatchers.org/wp-content/uploads/2023/03/Screenshot-2023-03-23-120707.png
END:VEVENT
END:VCALENDAR