BEGIN:VCALENDAR
VERSION:2.0
PRODID:-//Career Counseling in Maryland | CareerCatchers - ECPv6.15.17.1//NONSGML v1.0//EN
CALSCALE:GREGORIAN
METHOD:PUBLISH
X-ORIGINAL-URL:https://careercatchers.org
X-WR-CALDESC:Events for Career Counseling in Maryland | CareerCatchers
REFRESH-INTERVAL;VALUE=DURATION:PT1H
X-Robots-Tag:noindex
X-PUBLISHED-TTL:PT1H
BEGIN:VTIMEZONE
TZID:America/New_York
BEGIN:DAYLIGHT
TZOFFSETFROM:-0500
TZOFFSETTO:-0400
TZNAME:EDT
DTSTART:20250309T070000
END:DAYLIGHT
BEGIN:STANDARD
TZOFFSETFROM:-0400
TZOFFSETTO:-0500
TZNAME:EST
DTSTART:20251102T060000
END:STANDARD
BEGIN:DAYLIGHT
TZOFFSETFROM:-0500
TZOFFSETTO:-0400
TZNAME:EDT
DTSTART:20260308T070000
END:DAYLIGHT
BEGIN:STANDARD
TZOFFSETFROM:-0400
TZOFFSETTO:-0500
TZNAME:EST
DTSTART:20261101T060000
END:STANDARD
BEGIN:DAYLIGHT
TZOFFSETFROM:-0500
TZOFFSETTO:-0400
TZNAME:EDT
DTSTART:20270314T070000
END:DAYLIGHT
BEGIN:STANDARD
TZOFFSETFROM:-0400
TZOFFSETTO:-0500
TZNAME:EST
DTSTART:20271107T060000
END:STANDARD
END:VTIMEZONE
BEGIN:VEVENT
DTSTART;TZID=America/New_York:20260113T150000
DTEND;TZID=America/New_York:20260113T160000
DTSTAMP:20260421T203452
CREATED:20260105T132254Z
LAST-MODIFIED:20260113T202058Z
UID:11033-1768316400-1768320000@careercatchers.org
SUMMARY:Empowerment Hour: Moving Forward 2026 Part 1: A Career & Life Planning Workshop
DESCRIPTION:Are you ready to step into your next chapter with confidence? This uplifting and practical workshop creates space to reflect on where you are\, reconnect with your strengths\, and rediscover belief in your abilities. \nThrough guided exercises and supportive discussion\, you will explore strategies to move forward in your career and personal life so you leave with clarity\, motivation\, and a concrete plan for what comes next. \n\nWhat You’ll Gain\n\nA clearer vision for your next career and life steps.\nPractical planning tools you can start using right away.\nRenewed confidence in your skills\, experience\, and potential.\nA supportive space to reflect\, reset\, and refocus for 2026.\n\nTo register for this event\, click here and select January 13th from the dropdown!
URL:https://careercatchers.org/events/empowerment-hour-new-year-real-you/
CATEGORIES:Empowerment Hour
END:VEVENT
BEGIN:VEVENT
DTSTART;TZID=America/New_York:20260120T150000
DTEND;TZID=America/New_York:20260120T160000
DTSTAMP:20260421T203452
CREATED:20260105T132447Z
LAST-MODIFIED:20260114T013829Z
UID:11035-1768921200-1768924800@careercatchers.org
SUMMARY:Empowerment Hour: Moving Forward 2026 Part 2: Calming Your Power into the Next Chapter
DESCRIPTION:From clarity to courage: showing up as the you who moves forward on purpose. \nThis Workshop Is For You If You’re Ready To:\nStop waiting and start actively creating your future\nSee yourself as capable\, not just hopeful\nStrengthen your confidence before setting meaningful goals\nStep into the next chapter of your life or career with intention \n\nWhat You’ll Gain in This 1‑Hour Empowering Session\nBy the end of this workshop\, you will: – Recognize real evidence that you are already\nmoving forward – Connect with your December 2026 future self—the version of you\nwho followed through – Release old limiting stories and replace them with empowering\ninner narratives – Arrive emotionally and mentally prepared for the Intentional Goal\nSetting Workshop \n\nWorkshop Flow\nReclaiming Wins & Growth\nAcknowledge the progress you’ve already made—no matter how small—and see it as\nproof of your momentum.\nStepping Into Your Future Self\nA guided visualization and reflection to connect with the confident\, decisive version of\nyou you’re becoming.\nRewriting the Inner Story\nIdentify the story that’s been holding you back—and consciously choose a new one that\nmoves you forward.\nPreparing Your Mindset for Intentional Goal Setting\nStrengthen belief\, clarity\, and self‑trust so your next goals are aligned and achievable.\nEmpowering Closing Ritual\nCreate a personal power statement you’ll carry into the next workshop. \nTo register for this event\, click here and select January 20th from the dropdown!
URL:https://careercatchers.org/events/empowerment-hour-keeping-your-new-years-resolutions/
CATEGORIES:Empowerment Hour
END:VEVENT
BEGIN:VEVENT
DTSTART;TZID=America/New_York:20260127T150000
DTEND;TZID=America/New_York:20260127T160000
DTSTAMP:20260421T203452
CREATED:20260105T132628Z
LAST-MODIFIED:20260126T150226Z
UID:11037-1769526000-1769529600@careercatchers.org
SUMMARY:Empowerment Hour: Intentional Goal Setting Through Creative Expression and Self-Discovery
DESCRIPTION:Take time to pause\, reflect\, and realign your goals. This engaging session uses creative expression and guided self-discovery to help you gain clarity\, build confidence\, and set intentional goals that support your personal and professional growth. Come ready to explore\, create\, and leave inspired with clear next steps. \n  \nTo register for this event\, click here and select January 27th from the dropdown!
URL:https://careercatchers.org/events/empowerment-hour-rediscovering-joy-creative-expression/
CATEGORIES:Empowerment Hour
END:VEVENT
END:VCALENDAR