BEGIN:VCALENDAR
VERSION:2.0
PRODID:-//Career Counseling in Maryland | CareerCatchers - ECPv6.15.17.1//NONSGML v1.0//EN
CALSCALE:GREGORIAN
METHOD:PUBLISH
X-WR-CALNAME:Career Counseling in Maryland | CareerCatchers
X-ORIGINAL-URL:https://careercatchers.org
X-WR-CALDESC:Events for Career Counseling in Maryland | CareerCatchers
REFRESH-INTERVAL;VALUE=DURATION:PT1H
X-Robots-Tag:noindex
X-PUBLISHED-TTL:PT1H
BEGIN:VTIMEZONE
TZID:America/New_York
BEGIN:DAYLIGHT
TZOFFSETFROM:-0500
TZOFFSETTO:-0400
TZNAME:EDT
DTSTART:20240310T070000
END:DAYLIGHT
BEGIN:STANDARD
TZOFFSETFROM:-0400
TZOFFSETTO:-0500
TZNAME:EST
DTSTART:20241103T060000
END:STANDARD
BEGIN:DAYLIGHT
TZOFFSETFROM:-0500
TZOFFSETTO:-0400
TZNAME:EDT
DTSTART:20250309T070000
END:DAYLIGHT
BEGIN:STANDARD
TZOFFSETFROM:-0400
TZOFFSETTO:-0500
TZNAME:EST
DTSTART:20251102T060000
END:STANDARD
BEGIN:DAYLIGHT
TZOFFSETFROM:-0500
TZOFFSETTO:-0400
TZNAME:EDT
DTSTART:20260308T070000
END:DAYLIGHT
BEGIN:STANDARD
TZOFFSETFROM:-0400
TZOFFSETTO:-0500
TZNAME:EST
DTSTART:20261101T060000
END:STANDARD
END:VTIMEZONE
BEGIN:VEVENT
DTSTART;TZID=America/New_York:20250701T150000
DTEND;TZID=America/New_York:20250701T163000
DTSTAMP:20260422T211647
CREATED:20250625T185225Z
LAST-MODIFIED:20250625T185225Z
UID:10260-1751382000-1751387400@careercatchers.org
SUMMARY:Empowerment Hour: Time Management
DESCRIPTION:Struggling to keep up with everything on your plate? Join us as we explore practical strategies for managing your time more effectively. In this workshop\, we’ll cover how to prioritize tasks\, set realistic goals\, avoid procrastination\, and build a daily routine that supports both your personal and professional life. \nTo register for this event\, click here and select July 1st from the dropdown!
URL:https://careercatchers.org/events/empowerment-hour-time-management-4/
CATEGORIES:Empowerment Hour
END:VEVENT
BEGIN:VEVENT
DTSTART;TZID=America/New_York:20250708T150000
DTEND;TZID=America/New_York:20250708T163000
DTSTAMP:20260422T211647
CREATED:20250707T123949Z
LAST-MODIFIED:20250711T231945Z
UID:10270-1751986800-1751992200@careercatchers.org
SUMMARY:Empowerment Hour: Lifestyle AI: Prompts for Planning\, Plotting\, and Preparing Dinner
DESCRIPTION:Learn how to use AI to plan meals\, build useful lists\, and organize tasks that help keep daily life on track. You’ll practice simple prompts that turn AI into a tool for tracking what you have\, setting priorities\, and preparing for what’s next. No experience needed—just bring your curiosity. \nTo register for this event\, click here and select July 8th from the dropdown!
URL:https://careercatchers.org/events/empowerment-hour-lifestyle-ai-prompts-for-planning-plotting-and-preparing-dinner/
CATEGORIES:Empowerment Hour
END:VEVENT
BEGIN:VEVENT
DTSTART;TZID=America/New_York:20250715T150000
DTEND;TZID=America/New_York:20250715T163000
DTSTAMP:20260422T211647
CREATED:20250711T232309Z
LAST-MODIFIED:20250711T232309Z
UID:10324-1752591600-1752597000@careercatchers.org
SUMMARY:Empowerment Hour: Self Care Isn't Selfish
DESCRIPTION:The workshop explores the critical importance of self-care as a non-negotiable part of personal and professional well-being. The workshop opens with a conversation around the common misconception that self-care is selfish\, reframing it as a necessary act of self-preservation and empowerment. \nTo register for this event\, click here and select July 15th from the dropdown!
URL:https://careercatchers.org/events/empowerment-hour-self-care-isnt-selfish/
CATEGORIES:Empowerment Hour
END:VEVENT
BEGIN:VEVENT
DTSTART;TZID=America/New_York:20250722T150000
DTEND;TZID=America/New_York:20250722T163000
DTSTAMP:20260422T211647
CREATED:20250721T132113Z
LAST-MODIFIED:20250721T132113Z
UID:10342-1753196400-1753201800@careercatchers.org
SUMMARY:Empowerment Hour: Goal Setting by Mara Prater
DESCRIPTION:Join us for an inspiring Empowerment Hour focused on Goal Setting\, presented by Mara Prater.\nYou will learn how to define meaningful personal and professional goals that align with your values.\nMara will guide you through practical strategies to create a clear timeline\, stay motivated\, and overcome challenges. You will leave with actionable steps and renewed confidence to move forward with purpose and direction. \nTo register for this event\, click here and select July 22nd from the dropdown!
URL:https://careercatchers.org/events/empowerment-hour-goal-setting-by-mara-prater/
CATEGORIES:Empowerment Hour
END:VEVENT
BEGIN:VEVENT
DTSTART;TZID=America/New_York:20250729T150000
DTEND;TZID=America/New_York:20250729T163000
DTSTAMP:20260422T211647
CREATED:20250728T183324Z
LAST-MODIFIED:20250728T183324Z
UID:10352-1753801200-1753806600@careercatchers.org
SUMMARY:Empowerment Hour: Managing Distractions
DESCRIPTION:Do you ever feel frustrated after losing track of time scrolling on your phone or computer? Does your mind wander when you’re trying to focus on something important? Join us for this workshop as we explore practical ways to reduce distractions and become more intentional with your time. Learn strategies to stay focused\, set priorities\, and make the most of every moment! \nTo register for this event\, click here and select July 29th from the dropdown!
URL:https://careercatchers.org/events/empowerment-hour-managing-distractions-2/
CATEGORIES:Empowerment Hour
END:VEVENT
END:VCALENDAR